BEGIN:VCALENDAR
VERSION:2.0
PRODID:-//ChamberMaster//Event Calendar 2.0//EN
METHOD:PUBLISH
X-PUBLISHED-TTL:P3D
REFRESH-INTERVAL:P3D
CALSCALE:GREGORIAN
BEGIN:VEVENT
DTSTART:20150128T170000Z
DTEND:20150128T190000Z
X-MICROSOFT-CDO-ALLDAYEVENT:FALSE
SUMMARY:GSCC January 2015 Community Luncheon - "34th Annual Meeting"
DESCRIPTION:34th Annual Meeting Celebrates Chamber's Progress in 2014\n\n\n\nThe Chamber's 34th Annual Meeting Luncheon sponsored by "Platinum Plus" Continual Sponsor Shelby County Newspapers\, Inc. will be held on January 28.  The Annual Meeting will celebrate the Chamber's accomplishments during Bill Keller's term as Chair and kick-off our new year of programs and activities under 2015 Chamber Chair Lisa McMahon's leadership.\n\n\n\nTickets for the Annual Meeting are available for $20 per person for Chamber members ($30 for "Future" Members).  There are also a limited number of reserved Chairman's\, Platinum\, Gold\, Silver and Corporate tables for 8 remaining. These reserved seating options come with various benefits in addition to the reserved seating. For more information\, or to make a reservation\, please contact the Chamber at info@shelbychamber.org or by telephone at 663-4542.\n\n\n\nThe Chamber's 2014 Annual Report listing all of the Chamber's accomplishments for the past year will be provided to all attendees\, and the 2015 Business Plan will be presented. The event will be held at the Pelham Civic Complex & Ice Arena with doors opening at 11:00AM and the program beginning at 11:30AM.  \n\n\n\nFor more information\, or to make a reservation\, please contact the Chamber at info@shelbychamber.org or by telephone at 663-4542 or register online above.
X-ALT-DESC;FMTTYPE=text/html:<strong>34th Annual Meeting Celebrates Chamber&rsquo\;s Progress in 2014</strong><br />\n<br />\nThe Chamber&rsquo\;s 34th Annual Meeting Luncheon sponsored by &ldquo\;Platinum Plus&rdquo\; Continual Sponsor Shelby County Newspapers\, Inc. will be held on January 28.&nbsp\; The Annual Meeting will celebrate the Chamber&rsquo\;s accomplishments during Bill Keller&rsquo\;s term as Chair and kick-off our new year of programs and activities under 2015 Chamber Chair Lisa McMahon&rsquo\;s leadership.<br />\n<br />\nTickets for the Annual Meeting are available for $20 per person for Chamber members ($30 for &quot\;Future&quot\; Members).&nbsp\; There are also a limited number of reserved Chairman&rsquo\;s\, Platinum\, Gold\, Silver and Corporate tables for 8 remaining. These reserved seating options come with various benefits in addition to the reserved seating. For more information\, or to make a reservation\, please contact the Chamber at <a href="mailto:info@shelbychamber.org?subject=Request%20for%20Premium%20Seating%20Options%20at%2034th%20Annual%20Meeting%202014">info@shelbychamber.org</a> or by telephone at 663-4542.<br />\n<br />\nThe Chamber&rsquo\;s 2014 Annual Report listing all of the Chamber&rsquo\;s accomplishments for the past year will be provided to all attendees\, and the 2015 Business Plan will be presented. The event will be held at the Pelham Civic Complex &amp\; Ice Arena with doors opening at 11:00AM and the program beginning at 11:30AM. &nbsp\;<br />\n<br />\nFor more information\, or to make a reservation\, please contact the Chamber at info@shelbychamber.org or by telephone at 663-4542 or register online above.
LOCATION:Pelham Civic Complex and Ice Arena 500 Amphitheater Road Pelham\, AL 35124
UID:e.145.6586
SEQUENCE:3
DTSTAMP:20260423T050600Z
URL:https://business.shelbychamber.org/events/details/gscc-january-2015-community-luncheon-34th-annual-meeting-01-28-2015-6586
END:VEVENT

END:VCALENDAR
