BEGIN:VCALENDAR
VERSION:2.0
PRODID:-//ChamberMaster//Event Calendar 2.0//EN
METHOD:PUBLISH
X-PUBLISHED-TTL:P3D
REFRESH-INTERVAL:P3D
CALSCALE:GREGORIAN
BEGIN:VEVENT
DTSTART:20150729T160000Z
DTEND:20150729T180000Z
X-MICROSOFT-CDO-ALLDAYEVENT:FALSE
SUMMARY:GSCC July "Community Luncheon" - State of Shelby County Schools
DESCRIPTION:GSCC July "Community Luncheon" Features "State of Shelby County Schools"\n\n\n\nThe Chamber's July Community Luncheon\, sponsored by 280 Living\, will feature a panel discussion featuring Dr. Wayne Vickers\, Alabaster City Schools Superintendent\, Dr. Scott Coefield\, Pelham City Schools Superintendent and Mr. Randy Fuller Shelby County Schools Superintendent on the "State of the Schools Throughout Shelby County"and will be hosted by the Education Work Group. The Community Luncheon will be held on July 29 in the banquet hall at the Pelham Civic Complex and Ice Arena and is being catered by The Happy Catering Company. Doors will open at 11:00AM for business networking and the program will begin promptly at 11:30AM.\n\n\n\nOrganizations engaged in educational programs and activities are invited to participate in the Showcase Feature. Contact Keyla Handley\, Director of Community & Workforce Development\, with questions or for more details on availability for a Showcase Table at 663-4542. Ext. 106 or keyla@shelbychamber.org.\n\n\n\nThe investment is $20 per person for Greater Shelby Chamber members and $30 per person for "Future" members and includes a luncheon buffet. Reservations requested by Monday\, July 27. Please contact the Chamber at info@shelbychamber.org\, by telephone at 663-4542 use Online Registration.
X-ALT-DESC;FMTTYPE=text/html:<br />\n<strong>GSCC July &quot\;Community Luncheon&quot\; Features &ldquo\;State of Shelby County Schools&rdquo\;</strong><br />\n<br />\nThe Chamber&rsquo\;s July Community Luncheon\, sponsored by <a href="http://280living.com/">280 Living</a>\, will feature a panel discussion featuring&nbsp\;Dr. Wayne Vickers\, Alabaster City Schools Superintendent\,&nbsp\;Dr. Scott Coefield\, Pelham City Schools Superintendent and&nbsp\;Mr. Randy Fuller Shelby County Schools Superintendent on the &ldquo\;State of the Schools Throughout Shelby County&rdquo\;and will be hosted by the Education Work Group. The Community Luncheon will be held on July 29 in the banquet hall at the Pelham Civic Complex and Ice Arena and is being catered by <a href="http://www.happycatering.net/">The Happy Catering Company</a>. Doors will open at 11:00AM for business networking and the program will begin promptly at 11:30AM.<br />\n<br />\nOrganizations engaged in educational programs and activities are invited to participate in the Showcase Feature. Contact Keyla Handley\, Director of Community &amp\; Workforce Development\, with questions or for more details on availability for a Showcase Table at 663-4542. Ext. 106 or keyla@shelbychamber.org.<br />\n<br />\nThe investment is $20 per person for Greater Shelby Chamber members and $30 per person for &ldquo\;Future&rdquo\; members and includes a luncheon buffet. Reservations requested by Monday\, July 27. Please contact the Chamber at info@shelbychamber.org\, by telephone at 663-4542 use Online Registration.
LOCATION:Pelham Civic Complex & Ice Arena 500 Amphitheater Drive\, Pelham
UID:e.145.7717
SEQUENCE:3
DTSTAMP:20260422T200059Z
URL:https://business.shelbychamber.org/events/details/gscc-july-community-luncheon-state-of-shelby-county-schools-07-29-2015-7717
END:VEVENT

END:VCALENDAR
