BEGIN:VCALENDAR
VERSION:2.0
PRODID:-//ChamberMaster//Event Calendar 2.0//EN
METHOD:PUBLISH
X-PUBLISHED-TTL:P3D
REFRESH-INTERVAL:P3D
CALSCALE:GREGORIAN
BEGIN:VEVENT
DTSTART:20160727T160000Z
DTEND:20160727T180000Z
X-MICROSOFT-CDO-ALLDAYEVENT:FALSE
SUMMARY:GSCC July "Community Luncheon" - State of the Schools Throughout Shelby County
DESCRIPTION:GSCC July "Community Luncheon" Features "Update on the Schools Throughout Shelby County"\n\n\n\nThe Chamber's July Community Luncheon brought to you by presenting sponsor 280 Living and gold sponsor Business Interiors\, will feature presentations by Dr. Wayne Vickers\, Alabaster City Schools Superintendent\, Dr. Scott Coefield\, Pelham City Schools Superintendent and Mr. Randy Fuller Shelby County Schools Superintendent on the "State of Schools Throughout Shelby County"and will be hosted by the Education Work Group.\n\n\n\nThe Community Luncheon will be held on July 27 in the banquet hall at the Pelham Civic Complex and Ice Arena and is being catered by Jim 'N Nick's Alabaster. Doors will open at 11:00AM for business networking and the program will begin promptly at 11:30AM.\n\n\n\nOrganizations engaged in educational programs and activities are invited to participate in the Showcase Feature. Contact Kirk Mancer\, President & CEO\, with questions or for more details on availability for a Showcase Table at 663-4542. Ext. 101.\n\n\n\nThe investment is $20 per person for Greater Shelby Chamber investors and $30 per person for "Future" investors and includes a luncheon buffet.\n\n\n\nReservations requested by Monday\, July 25. Please contact the Chamber at info@shelbychamber.org\, by telephone at 663-4542 use Online Registration.
X-ALT-DESC;FMTTYPE=text/html:<br />\n<strong>GSCC July &quot\;Community Luncheon&quot\; Features &ldquo\;Update on the Schools Throughout Shelby County&rdquo\;</strong><br />\n<br />\nThe Chamber&rsquo\;s July Community Luncheon brought to you by presenting sponsor <a href="http://280living.com/">280 Living</a> and gold sponsor <a href="http://www.businteriors.com/">Business Interiors</a>\, will feature presentations by Dr. Wayne Vickers\, Alabaster City Schools Superintendent\,&nbsp\;Dr. Scott Coefield\, Pelham City Schools Superintendent and&nbsp\;Mr. Randy Fuller Shelby County Schools Superintendent on the &ldquo\;State of Schools Throughout Shelby County&rdquo\;and will be hosted by the Education Work Group.<br />\n<br />\nThe Community Luncheon will be held on July 27 in the banquet hall at the Pelham Civic Complex and Ice Arena and is being catered by <a href="https://www.facebook.com/JNNAlabaster/?fref=ts">Jim &#39\;N Nick&#39\;s Alabaster</a>. Doors will open at 11:00AM for business networking and the program will begin promptly at 11:30AM.<br />\n<br />\nOrganizations engaged in educational programs and activities are invited to participate in the Showcase Feature. Contact Kirk Mancer\, President &amp\; CEO\, with questions or for more details on availability for a Showcase Table at 663-4542. Ext. 101.<br />\n<br />\nThe investment is $20 per person for Greater Shelby Chamber investors and $30 per person for &ldquo\;Future&rdquo\; investors and includes a luncheon buffet.<br />\n<br />\nReservations requested by Monday\, July 25. Please contact the Chamber at info@shelbychamber.org\, by telephone at 663-4542 use Online Registration.
LOCATION:Pelham Civic Complex & Ice Arena 500 Amphitheater Drive\, Pelham
UID:e.145.9637
SEQUENCE:3
DTSTAMP:20260422T013311Z
URL:https://business.shelbychamber.org/events/details/gscc-july-community-luncheon-state-of-the-schools-throughout-shelby-county-07-27-2016-9637
END:VEVENT

END:VCALENDAR
