BEGIN:VCALENDAR
VERSION:2.0
PRODID:-//ChamberMaster//Event Calendar 2.0//EN
METHOD:PUBLISH
X-PUBLISHED-TTL:P3D
REFRESH-INTERVAL:P3D
CALSCALE:GREGORIAN
BEGIN:VEVENT
DTSTART:20150624T160000Z
DTEND:20150624T180000Z
X-MICROSOFT-CDO-ALLDAYEVENT:FALSE
SUMMARY:GSCC June "Community Luncheon" - Impact of United Way on Shelby County
DESCRIPTION:GSCC June "Community Luncheon" - Impact of United Way on Shelby County\n\n\n\nThe Chamber's June Community Luncheon Program will feature the positive impact United Way has on Shelby County and the keynote speaker will be Ms. Nancy Collat Goedecke\, Chairman and CEO\, Mayer Electric\, 2015 United Way Campaign Chair.\n\n\n\nThe program will also feature Showcase Feature Tables for non-profit organizations in Shelby County.\n\n\n\nThe event will be held in the banquet hall at the Pelham Civic Complex & Ice Arena.  Doors will open at 11:00AM for business networking and the program will begin promptly at 11:30AM.\n\n\n\nThe cost is $20 per person for Chamber members and $30 per person for "Future" Members and includes a luncheon buffet. For more information\, or to make a reservation\, please contact the Chamber at info@shelbychamber.org\, by telephone at 663-4542 or Register Online.
X-ALT-DESC;FMTTYPE=text/html:<br />\n<strong>GSCC June &quot\;Community Luncheon&quot\; - Impact of United Way on Shelby County</strong><br />\n<br />\n<span style="font-size:10px\;"><span style="font-family: arial\;">The Chamber&#39\;s June Community Luncheon Program will feature the positive impact United Way has on Shelby County and the keynote speaker will be <span class="cm_editor_fix">Ms. </span>Nancy Collat Goedecke<span class="cm_editor_fix">\, </span></span></span>Chairman and CEO\, Mayer Electric\, 2015 United Way Campaign Chair<span style="font-size:10px\;"><span style="font-family: arial\;">.</span></span><br />\n<br />\nThe program will also feature Showcase Feature Tables for non-profit organizations in Shelby County<strong><em>.</em></strong><br />\n<br />\nThe event will be held in the banquet hall at the Pelham Civic Complex &amp\; Ice Arena.&nbsp\; Doors will open at 11:00AM for business networking and the program will begin promptly at 11:30AM.<br />\n<br />\nThe cost is $20 per person for Chamber members and $30 per person for &quot\;Future&quot\; Members and includes a luncheon buffet. For more information\, or to make a reservation\, please contact the Chamber at info@shelbychamber.org\, by telephone at 663-4542 or Register Online.
LOCATION:Pelham Civic Complex & Ice Arena 500 Amphitheater Drive\, Pelham
UID:e.145.7666
SEQUENCE:3
DTSTAMP:20260422T213207Z
URL:https://business.shelbychamber.org/events/details/gscc-june-community-luncheon-impact-of-united-way-on-shelby-county-06-24-2015-7666
END:VEVENT

END:VCALENDAR
