BEGIN:VCALENDAR
VERSION:2.0
PRODID:-//ChamberMaster//Event Calendar 2.0//EN
METHOD:PUBLISH
X-PUBLISHED-TTL:P3D
REFRESH-INTERVAL:P3D
CALSCALE:GREGORIAN
BEGIN:VEVENT
DTSTART:20160330T160000Z
DTEND:20160330T180000Z
X-MICROSOFT-CDO-ALLDAYEVENT:FALSE
SUMMARY:GSCC March 2015 Community Luncheon "Green Business Practices"
DESCRIPTION:GSCC March Community Luncheon to feature "Green Business Practices"\n\n\n\nThe GSCC March Community Luncheon\, hosted by the Chamber's Existing Business & Industry Work Group\, will feature a presentation on "Recycling in Alabama and Best Practices" by Alan Gurganus the Recycling Director for Alabama Environmental Council. In his role\, he educates and advocates for sustainable waste management policies and practices while working with municipalities\, industry\, and institutions to move recycling forward and position Alabama as a leader in sustainable waste management.\n\n\n\nThe meeting will be held on March 30 in the banquet hall at the Pelham Civic Complex & Ice Arena. Doors will open at 11:00AM for the Showcase Feature and business networking. If you are interested in promoting your business in the Showcase Feature\, click here to access the form and return to the Chamber or contact Payton Thomas\, Manager\, Business Development & Support at 663-4542\, ext. 105. The program will begin promptly at 11:45AM.\n\n\n\nThe cost to attend the Community Luncheon is $20 per person for Chamber investors and $30 per person for "Future" investors and includes the Showcase Feature/ mini-expo\, networking\, hot buffet and keynote speaker presentation. For more information\, or to make a reservation\, please contact the Chamber at info@shelbychamber.org\, by telephone at 663-4542 or register online.
X-ALT-DESC;FMTTYPE=text/html:<br>\n<strong>GSCC March Community Luncheon to feature "Green Business Practices"</strong><br>\n<br>\nThe GSCC March Community Luncheon\, hosted by the Chamber's Existing Business &amp\; Industry Work Group\, will feature a presentation on "Recycling in Alabama and Best Practices" by Alan Gurganus the Recycling Director for <a href="http://www.aeconline.org/">Alabama Environmental Council</a>. In his role\, he educates and advocates for sustainable waste management policies and practices while working with municipalities\, industry\, and institutions to move recycling forward and position Alabama as a leader in sustainable waste management.<br>\n<br>\nThe meeting will be held on March 30 in the banquet hall at the Pelham Civic Complex &amp\; Ice Arena. Doors will open at 11:00AM for the <strong><a href="http://shelbychamber.org/benefits/chamber-programs/showcase-feature/">Showcase Feature</a></strong> and business networking. If you are interested in promoting your business in the Showcase Feature\, <strong><a href="https://chambermaster.blob.core.windows.net/userfiles/UserFiles/chambers/145/File/Showcase_City_Feature/2016GSCCSpotlightFeatureFormMar.pdf">click here to access the form</a></strong> and return to the Chamber or contact <a href="mailto:payton@shelbychamber.org?subject=Showcase%20Feature%20Inquiry%20for%20March%2030%20Community%20Luncheon">Payton Thomas</a>\, Manager\, Business Development &amp\; Support at 663-4542\, ext. 105. The program will begin promptly at 11:45AM.<br>\n<br>\nThe cost to attend the Community Luncheon is $20 per person for Chamber investors and $30 per person for "Future" investors and includes the Showcase Feature/ mini-expo\, networking\, hot buffet and keynote speaker presentation. For more information\, or to make a reservation\, please contact the Chamber at info@shelbychamber.org\, by telephone at 663-4542 or register online.
LOCATION:Pelham Civic Complex & Ice Arena 500 Amphitheater Road Pelham AL 35124
UID:e.145.9398
SEQUENCE:3
DTSTAMP:20260422T075315Z
URL:https://business.shelbychamber.org/events/details/gscc-march-2015-community-luncheon-green-business-practices-03-30-2016-9398
END:VEVENT

END:VCALENDAR
