BEGIN:VCALENDAR
VERSION:2.0
PRODID:-//ChamberMaster//Event Calendar 2.0//EN
METHOD:PUBLISH
X-PUBLISHED-TTL:P3D
REFRESH-INTERVAL:P3D
CALSCALE:GREGORIAN
BEGIN:VEVENT
DTSTART:20150520T160000Z
DTEND:20150520T180000Z
X-MICROSOFT-CDO-ALLDAYEVENT:FALSE
SUMMARY:GSCC May Community Luncheon "Celebrating Small Business"
DESCRIPTION:GSCC May Community Luncheon Celebrates Small Business\n\n\n\nThe Chamber's Small Business Work Group will host events during the month to Celebrate Small Business during the month of May. With more than 70% of our Chamber members classified as small businesses we want to recognize the positive economic impact small business has on Shelby County.\n\n\n\nActivities:\n\n\n\n?  Small Business Nominees? Reception on May 18 at Vizzini Winery (by invitation only).\n\n?  2015 Small Business of the Year Awards Luncheon\, sponsored by Regions Bank will recognize all nominees and announce the Small Business of the Year recipients -- in four different categories\, on May 20.\n\n?  2015 Small Business of the Year Awards Luncheon\, sponsored by Regions Bank\, featuring comments from Dick Cross\, Executive Director\, Summer Classics. Catering provided by The Happy Catering Co.\n\n\n\nThe investment for members is $20 per person and $30 per person for "Future" members.\n\n\n\nReservations are requested by noon\, Monday\, May 18.*\n\n\n\n*Note:  This luncheon is one week earlier than usual due to the Memorial Day holiday.
X-ALT-DESC;FMTTYPE=text/html:<br />\n<strong>GSCC May Community Luncheon Celebrates Small Business</strong><br />\n<br />\nThe Chamber&#39\;s Small Business Work Group will host events during the month to Celebrate Small Business during the month of May. With more than 70% of our Chamber members classified as small businesses we want to recognize the positive economic impact small business has on Shelby County.<br />\n<br />\nActivities:<br />\n<br />\n?&nbsp\; Small Business Nominees? Reception on May 18 at Vizzini Winery (by invitation only).<br />\n?&nbsp\; 2015 Small Business of the Year Awards Luncheon\, sponsored by Regions Bank will recognize all nominees and announce the Small Business of the Year recipients -- in four different categories\, on May 20.<br />\n?&nbsp\; 2015 Small Business of the Year Awards Luncheon\, sponsored by Regions Bank\, featuring comments from Dick Cross\, Executive Director\, Summer Classics. Catering provided by <a href="http://www.happycatering.net">The Happy Catering Co</a>.<br />\n<br />\nThe investment for members is $20 per person and $30 per person for &quot\;Future&quot\; members.<br />\n<br />\nReservations are requested by noon\, Monday\, May 18.<strong>*</strong><br />\n<br />\n<u><strong>*Note</strong></u>:&nbsp\; <strong><em>This luncheon is one week earlier than usual due to the Memorial Day holiday.</em></strong>
LOCATION:Pelham Civic Complex & Ice Arena 500 Amphitheater Drive\, Pelham
UID:e.145.7632
SEQUENCE:3
DTSTAMP:20260422T230352Z
URL:https://business.shelbychamber.org/events/details/gscc-may-community-luncheon-celebrating-small-business-05-20-2015-7632
END:VEVENT

END:VCALENDAR
