BEGIN:VCALENDAR
VERSION:2.0
PRODID:-//ChamberMaster//Event Calendar 2.0//EN
METHOD:PUBLISH
X-PUBLISHED-TTL:P3D
REFRESH-INTERVAL:P3D
CALSCALE:GREGORIAN
BEGIN:VEVENT
DTSTART;VALUE=DATE:20110404
DTEND;VALUE=DATE:20110426
TRANSP:TRANSPARENT
X-MICROSOFT-CDO-ALLDAYEVENT:TRUE
SUMMARY:Guitar Lessons
DESCRIPTION:Classes available from beginner to advanced. Recommended to begin playing acoustic guitar\, electric guitar optional.\n\nAges 6-Adult
X-ALT-DESC;FMTTYPE=text/html:Classes available from beginner to advanced. Recommended to begin playing acoustic guitar\, electric guitar optional.<br />\nAges 6-Adult
LOCATION:Shelby County Art Council
UID:e.145.3297
SEQUENCE:3
DTSTAMP:20260426T034143Z
URL:https://business.shelbychamber.org/events/details/guitar-lessons-04-04-2011-3297
END:VEVENT

END:VCALENDAR
