BEGIN:VCALENDAR
VERSION:2.0
PRODID:-//ChamberMaster//Event Calendar 2.0//EN
METHOD:PUBLISH
X-PUBLISHED-TTL:P3D
REFRESH-INTERVAL:P3D
CALSCALE:GREGORIAN
BEGIN:VEVENT
DTSTART;VALUE=DATE:20110705
DTEND;VALUE=DATE:20110727
TRANSP:TRANSPARENT
X-MICROSOFT-CDO-ALLDAYEVENT:TRUE
SUMMARY:Guitar Lessons
DESCRIPTION:Classes available from beginner to advanced\n\nRecommended to begin playing on the acoustic guitar\, electric optional\n\n\n\nAges 6 - Adult
X-ALT-DESC;FMTTYPE=text/html:Classes available from beginner to advanced\n<br>Recommended to begin playing on the acoustic guitar\, electric optional\n<br>\n<br>Ages 6 - Adult
LOCATION:Shelby County Arts Council
UID:e.145.3340
SEQUENCE:3
DTSTAMP:20260425T231257Z
URL:https://business.shelbychamber.org/events/details/guitar-lessons-07-05-2011-3340
END:VEVENT

END:VCALENDAR
