BEGIN:VCALENDAR
VERSION:2.0
PRODID:-//ChamberMaster//Event Calendar 2.0//EN
METHOD:PUBLISH
X-PUBLISHED-TTL:P3D
REFRESH-INTERVAL:P3D
CALSCALE:GREGORIAN
BEGIN:VEVENT
DTSTART:20140927T010000Z
DTEND:20140927T030000Z
X-MICROSOFT-CDO-ALLDAYEVENT:FALSE
SUMMARY:Gumbo\, Blues and Brews
DESCRIPTION:A night of scratch made Gumbo and craft beer tasting. Donnie Brooks opens for 2Blu and the Lucky Stiffs.
X-ALT-DESC;FMTTYPE=text/html:A night of scratch made Gumbo and craft beer tasting. Donnie Brooks opens for 2Blu and the Lucky Stiffs.
LOCATION:Shelby County Arts Council 104 Mildred Street Columbiana\, AL 35051
UID:e.145.6193
SEQUENCE:3
DTSTAMP:20260423T103905Z
URL:https://business.shelbychamber.org/events/details/gumbo-blues-and-brews-09-26-2014-6193
END:VEVENT

END:VCALENDAR
