BEGIN:VCALENDAR
VERSION:2.0
PRODID:-//ChamberMaster//Event Calendar 2.0//EN
METHOD:PUBLISH
X-PUBLISHED-TTL:P3D
REFRESH-INTERVAL:P3D
CALSCALE:GREGORIAN
BEGIN:VEVENT
DTSTART;VALUE=DATE:20141020
DTEND;VALUE=DATE:20141021
TRANSP:TRANSPARENT
X-MICROSOFT-CDO-ALLDAYEVENT:TRUE
SUMMARY:Hair Expressions Fundraiser. Donate unwanted products for battered women
DESCRIPTION:We invite you to donate any product that comes in a bottle or tube. This would include most shampoos\, conditioners\, hair gels\, hairsprays\, pomades\, or mousses\, and we will donate them to a local woman?s shelter?no matter where you purchased\n\nthem!\n\nAs a thank you for helping us impact these women in the greater Birmingham area\, we will give you 10% off your services or products of your choice from our salon.
X-ALT-DESC;FMTTYPE=text/html:<p class="MsoNormal"><span style="font-size:14.0pt\;line-height:115%\;font-family:\n&quot\;Lucida Calligraphy&quot\;">We invite you to donate any product that comes in a bottle or tube. This would include most shampoos\, conditioners\, hair gels\, hairsprays\, pomades\, or mousses\, and we will donate them to a local woman?s shelter?no matter where you purchased<br>\nthem!<br>\nAs a thank you for helping us impact these women in the greater Birmingham area\, we will give you 10% off your services or products of your choice from our salon.<o:p></o:p></span></p>\n
LOCATION:Hair Expressions
UID:e.145.6511
SEQUENCE:3
DTSTAMP:20260423T091908Z
URL:https://business.shelbychamber.org/events/details/hair-expressions-fundraiser-donate-unwanted-products-for-battered-women-10-20-2014-6511
END:VEVENT

END:VCALENDAR
