BEGIN:VCALENDAR
VERSION:2.0
PRODID:-//ChamberMaster//Event Calendar 2.0//EN
METHOD:PUBLISH
X-PUBLISHED-TTL:P3D
REFRESH-INTERVAL:P3D
CALSCALE:GREGORIAN
BEGIN:VEVENT
DTSTART;VALUE=DATE:20130514
DTEND;VALUE=DATE:20130519
TRANSP:TRANSPARENT
X-MICROSOFT-CDO-ALLDAYEVENT:TRUE
SUMMARY:Hairway to Heaven One Year Anniversary
DESCRIPTION:Register for FREE Haircuts and Products!\n\nServing Refreshments come celebrate with us!
X-ALT-DESC;FMTTYPE=text/html:Register for FREE Haircuts and Products!<br />\nServing Refreshments come celebrate with us! 
LOCATION:124 Market Center Drive Alabaster 35007
UID:e.145.4616
SEQUENCE:3
DTSTAMP:20260424T120704Z
URL:https://business.shelbychamber.org/events/details/hairway-to-heaven-one-year-anniversary-05-14-2013-4616
END:VEVENT

END:VCALENDAR
