BEGIN:VCALENDAR
VERSION:2.0
PRODID:-//ChamberMaster//Event Calendar 2.0//EN
METHOD:PUBLISH
X-PUBLISHED-TTL:P3D
REFRESH-INTERVAL:P3D
CALSCALE:GREGORIAN
BEGIN:VEVENT
DTSTART;VALUE=DATE:20130518
DTEND;VALUE=DATE:20130519
TRANSP:TRANSPARENT
X-MICROSOFT-CDO-ALLDAYEVENT:TRUE
SUMMARY:Hanson Army Reserve Career Fair
DESCRIPTION:Participating vendors such as Veterans Administration\, Hero2Hired\, University of Phoenix\, DeVry University\, and Military One Source will assist Soldiers and Family Members to identify available benefits\, resources and entitlements.
X-ALT-DESC;FMTTYPE=text/html:Participating vendors such as Veterans Administration\, Hero2Hired\, University of Phoenix\, DeVry University\, and Military One Source will&nbsp\;assist Soldiers and Family Members&nbsp\;to identify available benefits\, resources&nbsp\;and entitlements.
LOCATION:Hanson Reserve Center 1400 Golden Acorn Drive
UID:e.145.4554
SEQUENCE:3
DTSTAMP:20260424T120322Z
URL:https://business.shelbychamber.org/events/details/hanson-army-reserve-career-fair-05-18-2013-4554
END:VEVENT

END:VCALENDAR
