BEGIN:VCALENDAR
VERSION:2.0
PRODID:-//ChamberMaster//Event Calendar 2.0//EN
METHOD:PUBLISH
X-PUBLISHED-TTL:P3D
REFRESH-INTERVAL:P3D
CALSCALE:GREGORIAN
BEGIN:VEVENT
DTSTART:20160923T150000Z
DTEND:20160923T230000Z
X-MICROSOFT-CDO-ALLDAYEVENT:FALSE
SUMMARY:Happy Birthday\, Oliver!
DESCRIPTION:Help us celebrate the birthday of our favorite library pet\, Oliver the Hedgehog! Drop by any time between 10 and 6 for a snack and a hedgehog-themed craft\, and don't forget to make Oliver a birthday card! All ages welcome\, no registration required. All day event\, while supplies last.
X-ALT-DESC;FMTTYPE=text/html:<span style="font-family:calibri light\,sans-serif"><span style="font-size:12.0pt">Help us celebrate the birthday of our favorite library pet\, Oliver the Hedgehog! Drop by any time between 10 and 6 for a snack and a hedgehog-themed craft\, and don&#39\;t forget to make Oliver a birthday card! All ages welcome\, no registration required. All day event\, while supplies last.</span></span>
LOCATION:North Shelby Library 5521 Cahaba Valley Road Birmingham\, AL 35242
UID:e.145.9673
SEQUENCE:3
DTSTAMP:20260421T183422Z
URL:https://business.shelbychamber.org/events/details/happy-birthday-oliver-09-23-2016-9673
END:VEVENT

END:VCALENDAR
