BEGIN:VCALENDAR
VERSION:2.0
PRODID:-//ChamberMaster//Event Calendar 2.0//EN
METHOD:PUBLISH
X-PUBLISHED-TTL:P3D
REFRESH-INTERVAL:P3D
CALSCALE:GREGORIAN
BEGIN:VEVENT
DTSTART:20160729T233000Z
DTEND:20160730T013000Z
X-MICROSOFT-CDO-ALLDAYEVENT:FALSE
SUMMARY:Harry Potter Celebration
DESCRIPTION:Join us for feasting\, sorting\, and all kinds of Harry Potter games and trivia as we celebrate the upcoming release of the newest book from J. K. Rowling! Costumes encouraged but not required. Registration required.
X-ALT-DESC;FMTTYPE=text/html:<span style="font-family:calibri light\,sans-serif">Join us for feasting\, sorting\, and all kinds of Harry Potter games and trivia as we celebrate the upcoming release of the newest book from J. K. Rowling! Costumes encouraged but not required. Registration required.</span>
LOCATION:North Shelby Library 5521 Cahaba Valley Road Birmingham\, AL 35242
UID:e.145.9603
SEQUENCE:3
DTSTAMP:20260422T011605Z
URL:https://business.shelbychamber.org/events/details/harry-potter-celebration-07-29-2016-9603
END:VEVENT

END:VCALENDAR
