BEGIN:VCALENDAR
VERSION:2.0
PRODID:-//ChamberMaster//Event Calendar 2.0//EN
METHOD:PUBLISH
X-PUBLISHED-TTL:P3D
REFRESH-INTERVAL:P3D
CALSCALE:GREGORIAN
BEGIN:VEVENT
DTSTART:20161118T160000Z
DTEND:20161119T000000Z
X-MICROSOFT-CDO-ALLDAYEVENT:FALSE
SUMMARY:Harry Potter Craft @ North Shelby Library
DESCRIPTION:Drop by the Children's Department between 10:00AM and 6:00PM for a fun Harry Potter craft to celebrate the opening of the new movie by J. K. Rowling\, Fantastic Beasts and Where to Find Them. All ages welcome\; while supplies last.
X-ALT-DESC;FMTTYPE=text/html:<span style="font-family:calibri light\,sans-serif">Drop by the Children&rsquo\;s Department between 10:00AM and 6:00PM for a fun Harry Potter craft to celebrate the opening of the new movie by J. K. Rowling\, <em>Fantastic Beasts and Where to Find Them</em>. All ages welcome\; while supplies last.</span>
LOCATION:North Shelby Library 5521 Cahaba Valley Road Birmingham\, AL 35242
UID:e.145.9721
SEQUENCE:3
DTSTAMP:20260421T151219Z
URL:https://business.shelbychamber.org/events/details/harry-potter-craft-north-shelby-library-11-18-2016-9721
END:VEVENT

END:VCALENDAR
