BEGIN:VCALENDAR
VERSION:2.0
PRODID:-//ChamberMaster//Event Calendar 2.0//EN
METHOD:PUBLISH
X-PUBLISHED-TTL:P3D
REFRESH-INTERVAL:P3D
CALSCALE:GREGORIAN
BEGIN:VEVENT
DTSTART:20140415T210000Z
DTEND:20140415T220000Z
X-MICROSOFT-CDO-ALLDAYEVENT:FALSE
SUMMARY:Heritage Bank of the South- Chelsea Branch
DESCRIPTION:Come celebrate the Grand Opening of Heritage Bank in Chelsea with a Ribbon Cutting.
X-ALT-DESC;FMTTYPE=text/html:<font color="#808080">Come celebrate the Grand Opening of Heritage Bank in Chelsea with a Ribbon Cutting. </font>
LOCATION:16863 Hwy 280 Chelsea\, AL 35043
UID:e.145.5106
SEQUENCE:3
DTSTAMP:20260423T201829Z
URL:https://business.shelbychamber.org/events/details/heritage-bank-of-the-south-chelsea-branch-04-15-2014-5106
END:VEVENT

END:VCALENDAR
