BEGIN:VCALENDAR
VERSION:2.0
PRODID:-//ChamberMaster//Event Calendar 2.0//EN
METHOD:PUBLISH
X-PUBLISHED-TTL:P3D
REFRESH-INTERVAL:P3D
CALSCALE:GREGORIAN
BEGIN:VEVENT
DTSTART:20140417T210000Z
DTEND:20140417T220000Z
X-MICROSOFT-CDO-ALLDAYEVENT:FALSE
SUMMARY:HeritageBank of the South- Pelham Branch
DESCRIPTION:Come Celebrate the Grand Opening of Heritage Bank of the South!
X-ALT-DESC;FMTTYPE=text/html:Come Celebrate the Grand Opening of Heritage Bank of the South!
LOCATION:2723 Pelham Parkway Pelham\, AL 35124
UID:e.145.5105
SEQUENCE:3
DTSTAMP:20260423T184217Z
URL:https://business.shelbychamber.org/events/details/heritagebank-of-the-south-pelham-branch-04-17-2014-5105
END:VEVENT

END:VCALENDAR
