BEGIN:VCALENDAR
VERSION:2.0
PRODID:-//ChamberMaster//Event Calendar 2.0//EN
METHOD:PUBLISH
X-PUBLISHED-TTL:P3D
REFRESH-INTERVAL:P3D
CALSCALE:GREGORIAN
BEGIN:VEVENT
DTSTART:20160330T140000Z
DTEND:20160330T190000Z
X-MICROSOFT-CDO-ALLDAYEVENT:FALSE
SUMMARY:HIRING EVENT - March 30
DESCRIPTION:Advantage Resourcing will be hosting a HIRING EVENT that you will not want to miss!\n\n\n\nIf you are looking for a rewarding career with excellent opportunity for growth\, please meet us at:\n\n\n\nKelsey's Place (950 Lumac Drive\, Clanton\, Alabama\; off exit #205\, Interstate 65)\n\non Wednesday\, March 30th\, from 9 am - 2 pm.
X-ALT-DESC;FMTTYPE=text/html:<br />\nAdvantage Resourcing will be hosting a HIRING EVENT that you will not want to miss!<br />\n<br />\nIf you are looking for a rewarding career with excellent opportunity for growth\, please meet us at:<br />\n<br />\nKelsey&#39\;s Place (950 Lumac Drive\, Clanton\, Alabama\; off exit #205\, Interstate 65)<br />\non Wednesday\, March 30th\, from 9 am - 2 pm.
LOCATION:Kelsey's Place
UID:e.145.9456
SEQUENCE:3
DTSTAMP:20260422T074814Z
URL:https://business.shelbychamber.org/events/details/hiring-event-march-30-03-30-2016-9456
END:VEVENT

END:VCALENDAR
