BEGIN:VCALENDAR
VERSION:2.0
PRODID:-//ChamberMaster//Event Calendar 2.0//EN
METHOD:PUBLISH
X-PUBLISHED-TTL:P3D
REFRESH-INTERVAL:P3D
CALSCALE:GREGORIAN
BEGIN:VEVENT
DTSTART:20131012T140000Z
DTEND:20131012T170000Z
X-MICROSOFT-CDO-ALLDAYEVENT:FALSE
SUMMARY:History Hike at Oak Mountain State Park
DESCRIPTION:Come learn about the history of Oak Mountain State park. This hike will be about 3 and a half miles round trip. There will be an elevation change\, so be prepared for some incline. We will meet at the entrance to Group Camp Road (on the right past Terrace Drive) on John Findley Drive. Dress for the weather and bring plenty to drink.
X-ALT-DESC;FMTTYPE=text/html:Come learn about the history of Oak Mountain State park. This hike will be about 3 and a half miles round trip. There will be an elevation change\, so be prepared for some incline. We will meet at the entrance to Group Camp Road (on the right past Terrace Drive) on John Findley Drive. Dress for the weather and bring plenty to drink.
LOCATION:Oak Mountain State Park - Group Camp Road
UID:e.145.4534
SEQUENCE:3
DTSTAMP:20260424T033445Z
URL:https://business.shelbychamber.org/events/details/history-hike-at-oak-mountain-state-park-10-12-2013-4534
END:VEVENT

END:VCALENDAR
