BEGIN:VCALENDAR
VERSION:2.0
PRODID:-//ChamberMaster//Event Calendar 2.0//EN
METHOD:PUBLISH
X-PUBLISHED-TTL:P3D
REFRESH-INTERVAL:P3D
CALSCALE:GREGORIAN
BEGIN:VEVENT
DTSTART:20160207T004500Z
DTEND:20160207T033000Z
X-MICROSOFT-CDO-ALLDAYEVENT:FALSE
SUMMARY:Hockey Military Appreciation Night is Feb. 6
DESCRIPTION:PELHAM\, Ala. -- To honor the men and women who serve and have served this great nation in military service\, the University of Alabama Hockey Club and the American Legion Matthew Blount Post 555 have teamed up with the David Lindsay Chapter of the Daughters of the American Revolution\, Exchange Club of Shelby County\, and Pelham Youth Hockey Association and scheduled several military themed events as part of ?Military Appreciation Night? on Feb. 6 when Alabama hosts Navy hockey team at the Pelham Civic Complex and Ice Arena at 7:00 pm.\, .\,? said 1st Sgt. Kenneth Paschal\, U.S. Army Retired and American Legion Matthew Blount Post 555 1st vice commander. - See more at: http://www.shelbycountyreporter.com/2016/01/21/hockey-military-appreciation-night-is-feb-6/#sthash.VBrXeq8t.dpuf
X-ALT-DESC;FMTTYPE=text/html:PELHAM\, Ala. -- To honor the men and women who serve and have served this great nation in military service\, the University of Alabama Hockey Club and the American Legion Matthew Blount Post 555 have teamed up with the David Lindsay Chapter of the Daughters of the American Revolution\, Exchange Club of Shelby County\, and Pelham Youth Hockey Association and scheduled several military themed events as part of ?Military Appreciation Night? on Feb. 6 when Alabama hosts Navy hockey team at the Pelham Civic Complex and Ice Arena at 7:00 pm.\, .\,? said 1st Sgt. Kenneth Paschal\, U.S. Army Retired and American Legion Matthew Blount Post 555 1st vice commander. - See more at: http://www.shelbycountyreporter.com/2016/01/21/hockey-military-appreciation-night-is-feb-6/#sthash.VBrXeq8t.dpuf
LOCATION:Pelham Civic Complex and Ice Arena\, 500 Amphitheater Rd\, Pelham\, AL 35124
UID:e.145.8308
SEQUENCE:3
DTSTAMP:20260422T111155Z
URL:https://business.shelbychamber.org/events/details/hockey-military-appreciation-night-is-feb-6-02-06-2016-8308
END:VEVENT

END:VCALENDAR
