BEGIN:VCALENDAR
VERSION:2.0
PRODID:-//ChamberMaster//Event Calendar 2.0//EN
METHOD:PUBLISH
X-PUBLISHED-TTL:P3D
REFRESH-INTERVAL:P3D
CALSCALE:GREGORIAN
BEGIN:VEVENT
DTSTART:20151217T233000Z
DTEND:20151218T010000Z
X-MICROSOFT-CDO-ALLDAYEVENT:FALSE
SUMMARY:Holiday Business After Hours at Vizzini Farms Winery\, Inc.
DESCRIPTION:Ring-In the Holiday Season with December 17 Business After Hours\n\n\n\nShelby County's premier business networking event has a "holiday" theme this month and Chamber members from the Calera\, Greater Shelby\, Montevallo and South Shelby chambers are invited to "celebrate the season" at the next Business After Hours event presented by Shelby County Newspapers.\n\n\n\nBring plenty of business cards\, come ready to make some serious business contacts and earn a chance to win some prizes on December 17 from 5:30PM until 7:00PM at Vizzini Farms Winery\, Inc.\, 800 County Road 87\, Calera. The cost   which includes hot\, heavy hors d'oeuvres and two beverage coupons -- for any Chamber member is $10 per person and $20 for "Future" members.   \n\n\n\nReservations are required\, so please register via email at info@shelbychamber.org\, by phone at 663-4542 or online by December 15.\n\n\n\nBusiness After Hours events are premier networking opportunities\, offering members and guests the chance to meet business professionals representing products and services in a relaxed\, social setting. Members attending have an opportunity to exchange business cards and become acquainted with other businesses throughout the community.  Bring plenty of business cards!
X-ALT-DESC;FMTTYPE=text/html:<strong>Ring-In the Holiday Season with December 17 Business After Hours</strong><br />\n<br />\nShelby County&rsquo\;s premier business networking event has a &ldquo\;holiday&rdquo\; theme this month and Chamber members from the Calera\, Greater Shelby\, Montevallo and South Shelby chambers are invited to &ldquo\;celebrate the season&rdquo\; at the next Business After Hours event presented by Shelby County Newspapers.<br />\n<br />\nBring plenty of business cards\, come ready to make some serious business contacts and earn a chance to win some prizes on December 17 from 5:30PM until 7:00PM at Vizzini Farms Winery\, Inc.\, 800 County Road 87\, Calera. The cost &ndash\; which includes hot\, heavy hors d&rsquo\;oeuvres and two beverage coupons -- for any Chamber member is $10 per person and $20 for &ldquo\;Future&rdquo\; members.&nbsp\; &nbsp\;<br />\n<br />\nReservations are required\, so please register via email at info@shelbychamber.org\, by phone at 663-4542 or online by December 15.<br />\n<br />\n<a href="http://shelbychamber.org/benefits/chamber-programs/business-after-hours/">Business After Hours</a> events are premier networking opportunities\, offering members and guests the chance to meet business professionals representing products and services in a relaxed\, social setting. Members attending have an opportunity to exchange business cards and become acquainted with other businesses throughout the community.&nbsp\; <em>Bring plenty of business cards!</em>
LOCATION:Vizzini Farms Winery\, Inc. 800 County Road 87\, Calera
UID:e.145.7972
SEQUENCE:3
DTSTAMP:20260422T125611Z
URL:https://business.shelbychamber.org/events/details/holiday-business-after-hours-at-vizzini-farms-winery-inc-12-17-2015-7972
END:VEVENT

END:VCALENDAR
