BEGIN:VCALENDAR
VERSION:2.0
PRODID:-//ChamberMaster//Event Calendar 2.0//EN
METHOD:PUBLISH
X-PUBLISHED-TTL:P3D
REFRESH-INTERVAL:P3D
CALSCALE:GREGORIAN
BEGIN:VEVENT
DTSTART:20120420T160000Z
DTEND:20120420T180000Z
X-MICROSOFT-CDO-ALLDAYEVENT:FALSE
SUMMARY:Holy Family Cristo Rey "Raising Dollars for Scholars" Annual Luncheon
DESCRIPTION:Annual Fund Raising Luncheon\n\n\n\nThere will be a lunch\, a silent auction\, and a raffle to benefit the high school.\n\n\n\nDrayton Nabors\, former Chief Justice of the Alabama Supreme Court\, former CEO of Protective Life Insurance and founder of Cornerstone Schools will be the keynote speaker.\n\n\n\nWe expect 450 to 500 corporate guests attending the program.\n\n\n\nHoly Family Cristo Rey High School accomplishes workforce development and job readiness  in its students\, as well as providing a proven college prep education to families who cannot afford private schools.
X-ALT-DESC;FMTTYPE=text/html:Annual Fund Raising Luncheon<br />\n<br />\nThere will be a lunch\, a silent auction\, and a raffle to benefit the high school.<br />\n<br />\nDrayton Nabors\, former Chief Justice of the Alabama Supreme Court\, former CEO of Protective Life Insurance and founder of Cornerstone Schools will be the keynote speaker.<br />\n<br />\nWe expect 450 to 500 corporate guests attending the program.<br />\n<br />\nHoly Family Cristo Rey High School&nbsp\;accomplishes workforce development and job readiness&nbsp\; in its students\, as well as providing a proven college prep education to families who cannot afford private schools.&nbsp\;
LOCATION:The Harbert Center 2019 4th Ave North
UID:e.145.3928
SEQUENCE:3
DTSTAMP:20260425T103154Z
URL:https://business.shelbychamber.org/events/details/holy-family-cristo-rey-raising-dollars-for-scholars-annual-luncheon-04-20-2012-3928
END:VEVENT

END:VCALENDAR
