BEGIN:VCALENDAR
VERSION:2.0
PRODID:-//ChamberMaster//Event Calendar 2.0//EN
METHOD:PUBLISH
X-PUBLISHED-TTL:P3D
REFRESH-INTERVAL:P3D
CALSCALE:GREGORIAN
BEGIN:VEVENT
DTSTART;VALUE=DATE:20150916
DTEND;VALUE=DATE:20150917
TRANSP:TRANSPARENT
X-MICROSOFT-CDO-ALLDAYEVENT:TRUE
SUMMARY:Homeschool Hangout - Abigail Whitthauer: Canine Behavior Expert
DESCRIPTION:We are excited to have certified professional dog trainer and behaviorist Abigail Witthauer of Roverchase dog boarding and training facility speak with us this month.  Abigail has  15 years of professional dog training experience and holds multiple certifications in the field.  She is the only trainer in Alabama to be hand selected\, endorsed and sponsored by Victoria Stilwell\,  Animal Planet's celebrity trainer from  It's Me Or the Dog.    Ages 7-13. Registration is required.
X-ALT-DESC;FMTTYPE=text/html:<span style="background-color:rgb(238\, 238\, 238)\; color:rgb(42\, 44\, 49)\; font-family:helvetica neue\,helvetica\,arial\,sans-serif\; font-size:13px">We are excited to have certified professional dog trainer and&nbsp\;</span><span style="background-color:rgb(238\, 238\, 238)\; color:rgb(42\, 44\, 49)\; font-family:helvetica neue\,helvetica\,arial\,sans-serif\; font-size:13px">behaviorist</span><span style="background-color:rgb(238\, 238\, 238)\; color:rgb(42\, 44\, 49)\; font-family:helvetica neue\,helvetica\,arial\,sans-serif\; font-size:13px">&nbsp\;Abigail Witthauer of Roverchase dog boarding and training facility speak with us this month. &nbsp\;Abigail has &nbsp\;15 years of professional dog training experience and holds multiple certifications in the field. &nbsp\;She is the only trainer in Alabama to be hand selected\, endorsed and sponsored by Victoria Stilwell\, &nbsp\;Animal Planet&#39\;s&nbsp\;</span><span style="background-color:rgb(238\, 238\, 238)\; color:rgb(42\, 44\, 49)\; font-family:helvetica neue\,helvetica\,arial\,sans-serif\; font-size:13px">celebrity</span><span style="background-color:rgb(238\, 238\, 238)\; color:rgb(42\, 44\, 49)\; font-family:helvetica neue\,helvetica\,arial\,sans-serif\; font-size:13px">&nbsp\;trainer from &nbsp\;</span><em>It&#39\;s Me Or the Dog</em><span style="background-color:rgb(238\, 238\, 238)\; color:rgb(42\, 44\, 49)\; font-family:helvetica neue\,helvetica\,arial\,sans-serif\; font-size:13px">. &nbsp\; &nbsp\;Ages 7-13.&nbsp\;Registration is required.</span>
LOCATION:North Shelby Library 5521 Cahaba Valley Rd. Birmingham\, AL 35242
UID:e.145.7178
SEQUENCE:3
DTSTAMP:20260422T171912Z
URL:https://business.shelbychamber.org/events/details/homeschool-hangout-abigail-whitthauer-canine-behavior-expert-09-16-2015-7178
END:VEVENT

END:VCALENDAR
