BEGIN:VCALENDAR
VERSION:2.0
PRODID:-//ChamberMaster//Event Calendar 2.0//EN
METHOD:PUBLISH
X-PUBLISHED-TTL:P3D
REFRESH-INTERVAL:P3D
CALSCALE:GREGORIAN
BEGIN:VEVENT
DTSTART:20151021T180000Z
DTEND:20151021T190000Z
X-MICROSOFT-CDO-ALLDAYEVENT:FALSE
SUMMARY:Homeschool Hangout - Alabama Childhood Food Solutions with Jim Jones
DESCRIPTION:As we enter into the fall and winter holiday season\, we are pleased to have Jim Jones share with our homeschoolers about opportunities and ways to volunteer\, and help other children who are in need in their own community. Mr. Jones is the Childhood Food Director for Alabama Childhood Food Solutions\, a non-profit emergency food provider attempting to change a generation of food insecure kids by providing weekend backpacks of food to hundreds of kids. Registration is required. Ages 7 - 13 welcome. Check our website for more information.
X-ALT-DESC;FMTTYPE=text/html:As we enter into the fall and winter holiday season\, we are pleased to have Jim Jones share with our homeschoolers about opportunities and ways to volunteer\, and help other children who are in need in their own community. Mr. Jones is the Childhood Food Director for Alabama Childhood Food Solutions\, a non-profit emergency food provider attempting to change a generation of food insecure kids by providing weekend backpacks of food to hundreds of kids. Registration is required. Ages 7 - 13 welcome. Check our website for more information.&nbsp\;
LOCATION:North Shelby Library
UID:e.145.7895
SEQUENCE:3
DTSTAMP:20260422T154743Z
URL:https://business.shelbychamber.org/events/details/homeschool-hangout-alabama-childhood-food-solutions-with-jim-jones-10-21-2015-7895
END:VEVENT

END:VCALENDAR
