BEGIN:VCALENDAR
VERSION:2.0
PRODID:-//ChamberMaster//Event Calendar 2.0//EN
METHOD:PUBLISH
X-PUBLISHED-TTL:P3D
REFRESH-INTERVAL:P3D
CALSCALE:GREGORIAN
BEGIN:VEVENT
DTSTART:20160316T180000Z
DTEND:20160316T190000Z
X-MICROSOFT-CDO-ALLDAYEVENT:FALSE
SUMMARY:Homeschool Hangout - Birds and Beak Adaptations
DESCRIPTION:March is 'in like a raptor and out like a song bird' with a visit from the Birmingham Audubon Society and Teacher Naturalist Helena Uber-Wamble. Ms. Uber-Wamble will be presenting Birds and Beak Adaptations.  Homeschoolers will discover what birds eat by examining the shape of the bill. While rotating through interactive stations\, students will determine how the beak is used in gathering food. Students will then be able to determine what a bird eats while examining several bird skulls.  Ages 8-12.  Registration is required.
X-ALT-DESC;FMTTYPE=text/html:<span style="font-family:calibri light\,sans-serif">March is &lsquo\;in like a raptor and out like a song bird&rsquo\; with a visit from the Birmingham Audubon Society and Teacher Naturalist Helena Uber-Wamble. Ms. Uber-Wamble will be presenting Birds and Beak Adaptations.&nbsp\; Homeschoolers will discover what birds eat by examining the shape of the bill. While rotating through interactive stations\, students will determine how the beak is used in gathering food. Students will then be able to determine what a bird eats while examining several bird skulls.&nbsp\; Ages 8-12.&nbsp\; Registration is required.</span>
LOCATION:North Shelby Library
UID:e.145.8364
SEQUENCE:3
DTSTAMP:20260422T075121Z
URL:https://business.shelbychamber.org/events/details/homeschool-hangout-birds-and-beak-adaptations-03-16-2016-8364
END:VEVENT

END:VCALENDAR
