BEGIN:VCALENDAR
VERSION:2.0
PRODID:-//ChamberMaster//Event Calendar 2.0//EN
METHOD:PUBLISH
X-PUBLISHED-TTL:P3D
REFRESH-INTERVAL:P3D
CALSCALE:GREGORIAN
BEGIN:VEVENT
DTSTART:20131211T190000Z
DTEND:20131211T200000Z
X-MICROSOFT-CDO-ALLDAYEVENT:FALSE
SUMMARY:Homeschool Hangout - Gigi's Cupcakes
DESCRIPTION:We are very excited to welcome Pam Kaufman\, the owner of local Gigi's Cupcakes franchises. Join us to hear all about her scrumptious business and decorate a tasty treat. Registration is required. Ages 7-13 welcome.
X-ALT-DESC;FMTTYPE=text/html:We are very excited to welcome Pam Kaufman\, the owner of local Gigi&#39\;s Cupcakes franchises. Join us to hear all about her scrumptious business and decorate a tasty treat. Registration is required. Ages 7-13 welcome.
LOCATION:
UID:e.145.4926
SEQUENCE:3
DTSTAMP:20260424T003127Z
URL:https://business.shelbychamber.org/events/details/homeschool-hangout-gigi-s-cupcakes-12-11-2013-4926
END:VEVENT

END:VCALENDAR
