BEGIN:VCALENDAR
VERSION:2.0
PRODID:-//ChamberMaster//Event Calendar 2.0//EN
METHOD:PUBLISH
X-PUBLISHED-TTL:P3D
REFRESH-INTERVAL:P3D
CALSCALE:GREGORIAN
BEGIN:VEVENT
DTSTART:20151118T190000Z
DTEND:20151118T200000Z
X-MICROSOFT-CDO-ALLDAYEVENT:FALSE
SUMMARY:Homeschool Hangout - Growing Three Sisters' Garden
DESCRIPTION:Just in time for the Harvest Season\, we are so happy to have North Shelby Library's very own Carol Hagood\, Children's Library Assistant\, Jefferson County Master Gardener\, and Birmingham Botanical Garden's 2013 Educator of the Year.    Her program will share information about Native American gardening practices\, particularly The Three Sisters Garden\, an early form of companion planting which is popular today. Carol will also lend her voice and talented hand to share Cherokee legend\, and demonstrate traditional Native American corn husk doll making.   A longtime corn husk doll collector\, Carol will be sharing some of her collection with our students.  Homeschoolers will go home with their own corn husk doll and have the opportunity to craft clothing for their dolls.  Registration is required.  Ages 7-13 welcome. Check our website for more information.
X-ALT-DESC;FMTTYPE=text/html:Just in time for the Harvest Season\, we are so happy to have North Shelby Library&rsquo\;s very own Carol Hagood\, Children&rsquo\;s Library Assistant\, Jefferson County Master Gardener\, and Birmingham Botanical Garden&rsquo\;s 2013 Educator of the Year.&nbsp\;&nbsp\;&nbsp\;&nbsp\;Her program will share information about Native American gardening practices\, particularly The Three Sisters Garden\, an early form of companion planting which is popular today. Carol will also lend her voice and talented hand to share Cherokee legend\, and demonstrate traditional Native American corn husk doll making.&nbsp\;&nbsp\;&nbsp\;A longtime corn husk doll collector\, Carol will be sharing some of her collection with our students.&nbsp\;&nbsp\;Homeschoolers will go home with their own corn husk doll and have the opportunity to craft clothing for their dolls.&nbsp\;&nbsp\;<u>Registration is required. &nbsp\;Ages 7-13 welcome</u>.&nbsp\;Check&nbsp\;our&nbsp\;website&nbsp\;for&nbsp\;more&nbsp\;information.
LOCATION:North Shelby Library\, 5521 Cahaba Valley Road\, Birmingham AL 35242
UID:e.145.7954
SEQUENCE:3
DTSTAMP:20260422T142036Z
URL:https://business.shelbychamber.org/events/details/homeschool-hangout-growing-three-sisters-garden-11-18-2015-7954
END:VEVENT

END:VCALENDAR
