BEGIN:VCALENDAR
VERSION:2.0
PRODID:-//ChamberMaster//Event Calendar 2.0//EN
METHOD:PUBLISH
X-PUBLISHED-TTL:P3D
REFRESH-INTERVAL:P3D
CALSCALE:GREGORIAN
BEGIN:VEVENT
DTSTART:20160518T180000Z
DTEND:20160518T190000Z
X-MICROSOFT-CDO-ALLDAYEVENT:FALSE
SUMMARY:Homeschool Hangout - Hand in Paw
DESCRIPTION:Cindy Bowman and her therapy dog Sally of Hand in Paw\, Birmingham's animal assisted therapy nonprofit\, will be coming to North Shelby Library for May's Homeschool Hangout. Cindy and Sally will be sharing how animal assisted therapy works\, and who it helps in our community. Ages 7-12.  Registration is required.  Call 439-5504 for more information.
X-ALT-DESC;FMTTYPE=text/html:<span style="font-family:calibri light\,sans-serif">Cindy Bowman and her therapy dog Sally of Hand in Paw\, Birmingham&rsquo\;s animal assisted therapy nonprofit\, will be coming to North Shelby Library for May&rsquo\;s Homeschool Hangout.&nbsp\;Cindy and Sally will be sharing how animal assisted therapy works\, and who it helps in our community. Ages 7-12.&nbsp\; Registration is required.&nbsp\; Call 439-5504 for more information.</span>
LOCATION:North Shelby Library
UID:e.145.9491
SEQUENCE:3
DTSTAMP:20260422T062900Z
URL:https://business.shelbychamber.org/events/details/homeschool-hangout-hand-in-paw-05-18-2016-9491
END:VEVENT

END:VCALENDAR
