BEGIN:VCALENDAR
VERSION:2.0
PRODID:-//ChamberMaster//Event Calendar 2.0//EN
METHOD:PUBLISH
X-PUBLISHED-TTL:P3D
REFRESH-INTERVAL:P3D
CALSCALE:GREGORIAN
BEGIN:VEVENT
DTSTART:20140219T190000Z
DTEND:20140219T200000Z
X-MICROSOFT-CDO-ALLDAYEVENT:FALSE
SUMMARY:Homeschool Hangout - It's Shocking
DESCRIPTION:Kids will get a jolt and a volt as they learn about engaging and enticing electricity. This program is nothing short of a hair-raising way to expend some energy. Registration is required. Ages 7-13 welcome.
X-ALT-DESC;FMTTYPE=text/html:Kids will get a jolt and a volt as they learn about engaging and enticing electricity. This program is nothing short of a hair-raising way to expend some energy. Registration is required. Ages 7-13 welcome.
LOCATION:North Shelby Library
UID:e.145.5015
SEQUENCE:3
DTSTAMP:20260423T213034Z
URL:https://business.shelbychamber.org/events/details/homeschool-hangout-it-s-shocking-02-19-2014-5015
END:VEVENT

END:VCALENDAR
