BEGIN:VCALENDAR
VERSION:2.0
PRODID:-//ChamberMaster//Event Calendar 2.0//EN
METHOD:PUBLISH
X-PUBLISHED-TTL:P3D
REFRESH-INTERVAL:P3D
CALSCALE:GREGORIAN
BEGIN:VEVENT
DTSTART:20150520T180000Z
DTEND:20150520T190000Z
X-MICROSOFT-CDO-ALLDAYEVENT:FALSE
SUMMARY:Homeschool Hangout - James Spann
DESCRIPTION:We are so excited to welcome James Spann\, Chief Meteorologist of ABC 33/40. He has been a meteorologist for over 36 years and has received the two highest awards in the nation for a broadcast meteorologist. Ages 7-13. Registration is required.
X-ALT-DESC;FMTTYPE=text/html:<span style="color:#2A2C31">We are so excited to welcome James Spann\, Chief Meteorologist of ABC 33/40. He has been a meteorologist for over 36 years and has received the two highest awards in the nation for a broadcast meteorologist. Ages 7-13. Registration is required.</span>
LOCATION:North Shelby Library
UID:e.145.7643
SEQUENCE:3
DTSTAMP:20260422T230352Z
URL:https://business.shelbychamber.org/events/details/homeschool-hangout-james-spann-05-20-2015-7643
END:VEVENT

END:VCALENDAR
