BEGIN:VCALENDAR
VERSION:2.0
PRODID:-//ChamberMaster//Event Calendar 2.0//EN
METHOD:PUBLISH
X-PUBLISHED-TTL:P3D
REFRESH-INTERVAL:P3D
CALSCALE:GREGORIAN
BEGIN:VEVENT
DTSTART:20150415T180000Z
DTEND:20150415T190000Z
X-MICROSOFT-CDO-ALLDAYEVENT:FALSE
SUMMARY:Homeschool Hangout - K9 Officer
DESCRIPTION:Narcotics K-9 handler\, Deputy Rufus Williams\, will be joining us this month. Learn all about what it's like being a Shelby County Sheriff's deputy and working in the special K-9 unit. Ages 7-13. Registration is required.
X-ALT-DESC;FMTTYPE=text/html:<span style="color:#2A2C31">Narcotics K-9 handler\, Deputy Rufus Williams\, will be joining us this month. Learn all about what it&#39\;s like being a Shelby County Sheriff&#39\;s deputy and working in the special K-9 unit. Ages 7-13. Registration is required.</span>
LOCATION:North Shelby Library 5521 Cahaba Valley Rd. Birmingham\, AL 35242
UID:e.145.7615
SEQUENCE:3
DTSTAMP:20260423T003250Z
URL:https://business.shelbychamber.org/events/details/homeschool-hangout-k9-officer-04-15-2015-7615
END:VEVENT

END:VCALENDAR
