BEGIN:VCALENDAR
VERSION:2.0
PRODID:-//ChamberMaster//Event Calendar 2.0//EN
METHOD:PUBLISH
X-PUBLISHED-TTL:P3D
REFRESH-INTERVAL:P3D
CALSCALE:GREGORIAN
BEGIN:VEVENT
DTSTART:20140115T190000Z
DTEND:20140115T200000Z
X-MICROSOFT-CDO-ALLDAYEVENT:FALSE
SUMMARY:Homeschool Hangout - Kid Safe Workshop
DESCRIPTION:Join us for Impact Martial Arts? Interactive Self-Defense\, Safety\, and Awareness Workshop. We?ll be learning all about Mental and Physical Self-Defense. Come ready to get up and move. Registration is required. Ages 7-13 welcome.
X-ALT-DESC;FMTTYPE=text/html:Join us for Impact Martial Arts? Interactive Self-Defense\, Safety\, and Awareness Workshop. We?ll be learning all about Mental and Physical Self-Defense. Come ready to get up and move. Registration is required. Ages 7-13 welcome.
LOCATION:North Shelby Library
UID:e.145.4992
SEQUENCE:3
DTSTAMP:20260423T225442Z
URL:https://business.shelbychamber.org/events/details/homeschool-hangout-kid-safe-workshop-01-15-2014-4992
END:VEVENT

END:VCALENDAR
