BEGIN:VCALENDAR
VERSION:2.0
PRODID:-//ChamberMaster//Event Calendar 2.0//EN
METHOD:PUBLISH
X-PUBLISHED-TTL:P3D
REFRESH-INTERVAL:P3D
CALSCALE:GREGORIAN
BEGIN:VEVENT
DTSTART:20131120T190000Z
DTEND:20131120T200000Z
X-MICROSOFT-CDO-ALLDAYEVENT:FALSE
SUMMARY:Homeschool Hangout - Local Author B. H. Parker
DESCRIPTION:We are very excited to welcome local author B.H. Parker! Ms. Parker is a former homeschooler whose first novel\, Mark of the Corripian\, is being published this November. Join us to hear about her experiences through the novel-writing and publishing process. Registration is required. Ages 8-12 welcome.
X-ALT-DESC;FMTTYPE=text/html:We are very excited to welcome local author B.H. Parker! Ms. Parker is a former homeschooler whose first novel\, Mark of the Corripian\, is being published this November. Join us to hear about her experiences through the novel-writing and publishing process. Registration is required. Ages 8-12 welcome.
LOCATION:North Shelby Library 5521 Cahaba Valley Rd. B'ham\, AL 35242
UID:e.145.4778
SEQUENCE:3
DTSTAMP:20260424T021347Z
URL:https://business.shelbychamber.org/events/details/homeschool-hangout-local-author-b-h-parker-11-20-2013-4778
END:VEVENT

END:VCALENDAR
