BEGIN:VCALENDAR
VERSION:2.0
PRODID:-//ChamberMaster//Event Calendar 2.0//EN
METHOD:PUBLISH
X-PUBLISHED-TTL:P3D
REFRESH-INTERVAL:P3D
CALSCALE:GREGORIAN
BEGIN:VEVENT
DTSTART:20151216T190000Z
DTEND:20151216T200000Z
X-MICROSOFT-CDO-ALLDAYEVENT:FALSE
SUMMARY:Homeschool Hangout - Origami Ornaments
DESCRIPTION:Just in time for the December Holidays\, this month's Homeschool Hangout will feature North Shelby Library's very own Origami aficionado Ms. Michelyn\, who will be teaching our kids how to make origami ornaments. Students will learn how to make a ball ornament\, a candy cane ornament\, and a gift box ornament. Be sure to help us decorate our Children's Christmas tree -make one for the library\, and make some to take home! Space is limited this month. Registration is required. Ages 7-13 welcome. Check our website for more information.
X-ALT-DESC;FMTTYPE=text/html:Just in time for the December Holidays\, this month&rsquo\;s Homeschool Hangout will feature North Shelby Library&rsquo\;s very own Origami aficionado Ms. Michelyn\, who will be teaching our kids how to make origami ornaments.&nbsp\;Students will learn how to make a ball ornament\, a candy cane ornament\, and a gift box ornament.&nbsp\;Be sure to help us decorate our Children&rsquo\;s Christmas tree -make one for the library\, and make some to take home! Space is limited this month.&nbsp\;Registration is required. Ages 7-13 welcome.&nbsp\;Check&nbsp\;our&nbsp\;website&nbsp\;for&nbsp\;more&nbsp\;information.
LOCATION:Meeting Room
UID:e.145.7980
SEQUENCE:3
DTSTAMP:20260422T125335Z
URL:https://business.shelbychamber.org/events/details/homeschool-hangout-origami-ornaments-12-16-2015-7980
END:VEVENT

END:VCALENDAR
