BEGIN:VCALENDAR
VERSION:2.0
PRODID:-//ChamberMaster//Event Calendar 2.0//EN
METHOD:PUBLISH
X-PUBLISHED-TTL:P3D
REFRESH-INTERVAL:P3D
CALSCALE:GREGORIAN
BEGIN:VEVENT
DTSTART:20160120T190000Z
DTEND:20160120T200000Z
X-MICROSOFT-CDO-ALLDAYEVENT:FALSE
SUMMARY:Homeschool Hangout - Salamanders
DESCRIPTION:Henry Hughes\, Director of Education at the Birmingham Botanical Gardens will be sharing about river conservation\, salamanders\, and the importance of salamanders in the health of our local eco-systems.   Homeschoolers will get the chance to experience our little slimy friends up close.  Don't miss out!
X-ALT-DESC;FMTTYPE=text/html:Henry Hughes\, Director of Education at the Birmingham Botanical Gardens will be sharing about river conservation\, salamanders\, and the importance of salamanders in the health of our local eco-systems.&nbsp\;&nbsp\; Homeschoolers will get the chance to experience our little slimy friends up close.&nbsp\; Don&rsquo\;t miss out!
LOCATION:5521 Cahaba Valley Road\, Birmngham AL 35242
UID:e.145.8224
SEQUENCE:3
DTSTAMP:20260422T110508Z
URL:https://business.shelbychamber.org/events/details/homeschool-hangout-salamanders-01-20-2016-8224
END:VEVENT

END:VCALENDAR
