BEGIN:VCALENDAR
VERSION:2.0
PRODID:-//ChamberMaster//Event Calendar 2.0//EN
METHOD:PUBLISH
X-PUBLISHED-TTL:P3D
REFRESH-INTERVAL:P3D
CALSCALE:GREGORIAN
BEGIN:VEVENT
DTSTART:20160217T190000Z
DTEND:20160217T190000Z
X-MICROSOFT-CDO-ALLDAYEVENT:FALSE
SUMMARY:Homeschool Hangout - What's Opera?
DESCRIPTION:February brings song to the North Shelby Library.  Mr. Tommy Thompson will be lending his skills to teach a program he affectionately calls "Opera without All the Boring Bits". Mr. Thompson is a multi-talented singer\, musician\, community educator\, and Company Manager of Opera Birmingham.  Please join us for this fun and exciting program! Ages 8-12.
X-ALT-DESC;FMTTYPE=text/html:<span style="font-family:calibri light\,sans-serif">February brings song to the North Shelby Library.&nbsp\;&nbsp\;Mr. Tommy Thompson will be lending his skills to teach a program he affectionately calls &ldquo\;Opera without All the Boring Bits&rdquo\;.&nbsp\;Mr. Thompson is a multi-talented singer\, musician\, community educator\, and Company Manager of Opera Birmingham.&nbsp\; Please join us for this fun and exciting program!&nbsp\;Ages 8-12.</span>
LOCATION:
UID:e.145.8271
SEQUENCE:3
DTSTAMP:20260422T093143Z
URL:https://business.shelbychamber.org/events/details/homeschool-hangout-what-s-opera-02-17-2016-8271
END:VEVENT

END:VCALENDAR
