BEGIN:VCALENDAR
VERSION:2.0
PRODID:-//ChamberMaster//Event Calendar 2.0//EN
METHOD:PUBLISH
X-PUBLISHED-TTL:P3D
REFRESH-INTERVAL:P3D
CALSCALE:GREGORIAN
BEGIN:VEVENT
DTSTART:20160420T180000Z
DTEND:20160420T190000Z
X-MICROSOFT-CDO-ALLDAYEVENT:FALSE
SUMMARY:Homeschool Hangout - Zoo Field Trip
DESCRIPTION:April is Field Trip month for Homeschool Hangout. Caregivers and participating homeschoolers will meet with us at the Birmingham Zoo for a program on Sea Lions and Animal Training with Animal Trainer extraordinaire\, Celeste Hicks. Participants will arrive at the Birmingham Zoo @ 12:30 to check in with North Shelby Library Staff. The program will begin at 1:00 at the Sea Lion Exhibit. Pre-registration at the North Shelby Library is required.  Participation is free to participating pre-registered homeschoolers (aged 7-12 only)\, and one adult caregiver per family.   \n\nAdditional adults and siblings may participate for $6.00 per person by pre-registering at North Shelby Library. Payment is due upon registration. Walk-up participants pay full price tickets at the zoo gate: ($16.00 + tax for Adults & $11.00 + tax for Children ages 2-12). Call 439-5504 for more information.
X-ALT-DESC;FMTTYPE=text/html:<span style="font-family:calibri light\,sans-serif">April is Field Trip month for Homeschool Hangout. Caregivers and participating homeschoolers will meet with us at the Birmingham Zoo for a program on Sea Lions and Animal Training with Animal Trainer extraordinaire\, Celeste Hicks. Participants will arrive at the Birmingham Zoo @ 12:30 to check in with North Shelby Library Staff. The program will begin at 1:00 at the Sea Lion Exhibit. Pre-registration at the North Shelby Library is required.&nbsp\; Participation is free to participating pre-registered homeschoolers (aged 7-12 only)\, and one adult caregiver per family.&nbsp\;&nbsp\; </span><br />\n<span style="font-family:calibri light\,sans-serif">Additional adults and siblings may participate for $6.00 per person by pre-registering at North Shelby Library. Payment is due upon registration. Walk-up participants pay full price tickets at the zoo gate: ($16.00 + tax for Adults &amp\; $11.00 + tax for Children ages 2-12). Call 439-5504 for more information.</span>
LOCATION:North Shelby Library
UID:e.145.9410
SEQUENCE:3
DTSTAMP:20260422T075120Z
URL:https://business.shelbychamber.org/events/details/homeschool-hangout-zoo-field-trip-04-20-2016-9410
END:VEVENT

END:VCALENDAR
