BEGIN:VCALENDAR
VERSION:2.0
PRODID:-//ChamberMaster//Event Calendar 2.0//EN
METHOD:PUBLISH
X-PUBLISHED-TTL:P3D
REFRESH-INTERVAL:P3D
CALSCALE:GREGORIAN
BEGIN:VEVENT
DTSTART:20140425T170000Z
DTEND:20140427T170000Z
X-MICROSOFT-CDO-ALLDAYEVENT:FALSE
SUMMARY:Honda Indy Grand Prix of Alabama
DESCRIPTION:Tickets start as low as $15\, so bring your family or sports fan on your list out for a wonderful weekend of racing and activities. Pack a cooler or picnic and come experience one of the best outside parks in Birmingham\, along with the opportunity to watch some of the world's greatest INDYCAR drivers such as Helio Castroneves\, Marco Andretti\, Will Power\, Graham Rahal and many more! Children 12 & under are admitted FREE with a ticketed adult\, so don't miss out!
X-ALT-DESC;FMTTYPE=text/html:Tickets start as low as $15\, so bring your family or sports fan on your list out for a wonderful weekend of racing and activities. Pack a cooler or picnic and come experience one of the best outside parks in Birmingham\, along with the opportunity to watch some of the world&#39\;s greatest INDYCAR drivers such as Helio Castroneves\, Marco Andretti\, Will Power\, Graham Rahal and many more! Children 12 &amp\; under are admitted FREE with a ticketed adult\, so don&#39\;t miss out! 
LOCATION:Barber Motorsports Park
UID:e.145.5009
SEQUENCE:3
DTSTAMP:20260423T201702Z
URL:https://business.shelbychamber.org/events/details/honda-indy-grand-prix-of-alabama-04-25-2014-5009
END:VEVENT

END:VCALENDAR
