BEGIN:VCALENDAR
VERSION:2.0
PRODID:-//ChamberMaster//Event Calendar 2.0//EN
METHOD:PUBLISH
X-PUBLISHED-TTL:P3D
REFRESH-INTERVAL:P3D
CALSCALE:GREGORIAN
BEGIN:VEVENT
DTSTART;VALUE=DATE:20120330
DTEND;VALUE=DATE:20120402
TRANSP:TRANSPARENT
X-MICROSOFT-CDO-ALLDAYEVENT:TRUE
SUMMARY:Honda Indy Grand Prix of Alabama presented by Legacy
DESCRIPTION:It's that time again . . . come join us for the Honda Indy Grand Prix!  Family and friends come and support your team! Honda Indy Grand Prix of Alabama  was voted "Best Annual Event" & "Best Sporting Event" in the Birmingham Magazine's "2011 Best of Bham"! Tickets are now on sale for the Honda Indy Grand Prix of Alabama!
X-ALT-DESC;FMTTYPE=text/html:<span class="Apple-style-span" style="font-family: Arial\, Helvetica\, sans-serif\; line-height: 19px\; color: rgb(0\, 0\, 0)\; ">It&#39\;s that time again . . . come join us for the Honda Indy Grand Prix! &nbsp\;Family and friends come and support your team! Honda Indy Grand Prix of Alabama &nbsp\;was voted &ldquo\;Best Annual Event&rdquo\; &amp\; &ldquo\;Best Sporting Event&rdquo\; in the Birmingham Magazine&rsquo\;s &ldquo\;2011 Best of Bham&rdquo\;! Tickets are now on sale for the Honda Indy Grand Prix of Alabama!</span>
LOCATION:Barber Motorsports Park
UID:e.145.3919
SEQUENCE:3
DTSTAMP:20260425T103216Z
URL:https://business.shelbychamber.org/events/details/honda-indy-grand-prix-of-alabama-presented-by-legacy-03-30-2012-3919
END:VEVENT

END:VCALENDAR
