BEGIN:VCALENDAR
VERSION:2.0
PRODID:-//ChamberMaster//Event Calendar 2.0//EN
METHOD:PUBLISH
X-PUBLISHED-TTL:P3D
REFRESH-INTERVAL:P3D
CALSCALE:GREGORIAN
BEGIN:VEVENT
DTSTART;VALUE=DATE:20130427
DTEND;VALUE=DATE:20130428
TRANSP:TRANSPARENT
X-MICROSOFT-CDO-ALLDAYEVENT:TRUE
SUMMARY:Hot Iron At The Iron Park - Shelby Iron Park's Car Show
DESCRIPTION:HOT IRON AT THE IRON PARK\n\n\n\nShelby Iron Park's Car Show\n\nSaturday\, April 27th\, 2013\n\n(Rain Date: Saturday\, May 4th\, 2013)\n\n\n\nFREE!  Bring your lawn chair and stay a while!\n\n\n\nRegistration Starts At 9 AM\n\n$25 Per Entry\n\n\n\nPrizes To Be Given Out At 2 PM\n\n*  Plaques For The Top Five\n\n*  50/50 Drawing\n\n*  Money Tree & Door Prizes\n\n\n\nMusic Provided By:\n\nThe Last Chance Band\n\n\n\nKitchen Will Be Open!\n\n\n\nSwap Meet Vendors Welcome!\n\nAll Vendors Will set Up By The Blacksmith Building\n\n\n\nwww.shelbyironworks.com\n\n\n\nFor More Information Call:\n\nTim Brasher (669-6856)\n\nHarry Burks (669-3137)\n\nAndy Vansant (669-0378)
X-ALT-DESC;FMTTYPE=text/html:HOT IRON AT THE IRON PARK<br />\n<br />\nShelby Iron Park&#39\;s Car Show<br />\nSaturday\, April 27th\, 2013<br />\n(Rain Date: Saturday\, May 4th\, 2013)<br />\n<br />\nFREE!&nbsp\; Bring your lawn chair and stay a while!<br />\n<br />\nRegistration Starts At 9 AM<br />\n$25 Per Entry<br />\n<br />\nPrizes To Be Given Out At 2 PM<br />\n*&nbsp\; Plaques For The Top Five<br />\n*&nbsp\; 50/50 Drawing<br />\n*&nbsp\; Money Tree &amp\; Door Prizes<br />\n<br />\nMusic Provided By:<br />\nThe Last Chance Band<br />\n<br />\nKitchen Will Be Open!<br />\n<br />\nSwap Meet Vendors Welcome!<br />\nAll Vendors Will set Up By The Blacksmith Building<br />\n<br />\nwww.shelbyironworks.com<br />\n<br />\nFor More Information Call:<br />\nTim Brasher (669-6856)<br />\nHarry Burks (669-3137)<br />\nAndy Vansant (669-0378)&nbsp\; &nbsp\;
LOCATION:Shelby Iron Works Park 10268 Highway 42 Shelby\, AL 35143
UID:e.145.4574
SEQUENCE:3
DTSTAMP:20260424T135124Z
URL:https://business.shelbychamber.org/events/details/hot-iron-at-the-iron-park-shelby-iron-park-s-car-show-04-27-2013-4574
END:VEVENT

END:VCALENDAR
