BEGIN:VCALENDAR
VERSION:2.0
PRODID:-//ChamberMaster//Event Calendar 2.0//EN
METHOD:PUBLISH
X-PUBLISHED-TTL:P3D
REFRESH-INTERVAL:P3D
CALSCALE:GREGORIAN
BEGIN:VEVENT
DTSTART:20140824T010000Z
DTEND:20140824T030000Z
X-MICROSOFT-CDO-ALLDAYEVENT:FALSE
SUMMARY:How to be Hip Over Thirty - Presented by South City Theater
DESCRIPTION:Presented by South City Theater.
X-ALT-DESC;FMTTYPE=text/html:Presented by South City Theater.
LOCATION:104 Mildred St. Columbiana Al\, 35051
UID:e.145.5524
SEQUENCE:3
DTSTAMP:20260423T121012Z
URL:https://business.shelbychamber.org/events/details/how-to-be-hip-over-thirty-presented-by-south-city-theater-08-23-2014-5524
END:VEVENT

END:VCALENDAR
