BEGIN:VCALENDAR
VERSION:2.0
PRODID:-//ChamberMaster//Event Calendar 2.0//EN
METHOD:PUBLISH
X-PUBLISHED-TTL:P3D
REFRESH-INTERVAL:P3D
CALSCALE:GREGORIAN
BEGIN:VEVENT
DTSTART:20130528T180000Z
DTEND:20130528T200000Z
X-MICROSOFT-CDO-ALLDAYEVENT:FALSE
SUMMARY:Ice Skating Kick-Off Party
DESCRIPTION:The Pelham Public Library will kick-off the annual Children's Summer Reading Program with an ice skating party at the Pelham Civic Complex on Tuesday\, May 28th from 1-3pm. Children of all ages are welcome to the party\, and skates will be provided free of charge. Participants are encouraged to remember to bring socks to wear while skating. No registration is required for the ice skating party\, but registration for the Summer Reading Program will begin at the ice skating party. By registering in the Summer Program children can earn prizes by reading books.  The program is for children ages birth to rising 6th graders and will run from May 28th through July. For more information call 620-6418. To see the full calendar of events happening this summer at the Pelham Public Library\, please visit www.pelhamlibrary.com.
X-ALT-DESC;FMTTYPE=text/html:<p align="left" class="MsoBodyText" style="margin-left: 0in\; text-indent: 0in\;">\n	<span style="font-size: 12pt\; font-family: 'Times New Roman'\, serif\; color: rgb(51\, 51\, 51)\; background-position: initial initial\; background-repeat: initial initial\;">The Pelham Public Library will kick-off the annual Children&rsquo\;s Summer Reading Program with an ice skating party at the Pelham Civic Complex on Tuesday\, May 28th from 1-3pm. Children of all ages are welcome to the party\, and skates will be provided free of charge. Participants are encouraged to remember to bring socks to wear while skating. No registration is required for the ice skating party\, but registration for the Summer Reading Program will begin at the ice skating party. By registering in the Summer Program children can earn prizes by reading books.&nbsp\; The program is for children ages birth to rising 6th graders and will run from May 28th through July. For more information call 620-6418. To see the full calendar of events happening this summer at the Pelham Public Library\, please visit </span><a href="http://www.pelhamlibrary.com/"><span style="font-size: 12pt\; font-family: 'Times New Roman'\, serif\; background-position: initial initial\; background-repeat: initial initial\;">www.pelhamlibrary.com</span></a><span style="font-size: 12pt\; font-family: 'Times New Roman'\, serif\; color: rgb(51\, 51\, 51)\; background-position: initial initial\; background-repeat: initial initial\;">.<o:p></o:p></span></p>\n
LOCATION:Pelham Civic Complex
UID:e.145.4620
SEQUENCE:3
DTSTAMP:20260424T120203Z
URL:https://business.shelbychamber.org/events/details/ice-skating-kick-off-party-05-28-2013-4620
END:VEVENT

END:VCALENDAR
