BEGIN:VCALENDAR
VERSION:2.0
PRODID:-//ChamberMaster//Event Calendar 2.0//EN
METHOD:PUBLISH
X-PUBLISHED-TTL:P3D
REFRESH-INTERVAL:P3D
CALSCALE:GREGORIAN
BEGIN:VEVENT
DTSTART:20151117T163000Z
DTEND:20151117T170000Z
X-MICROSOFT-CDO-ALLDAYEVENT:FALSE
SUMMARY:iKidz - Learning Through Play Ribbon Cutting
DESCRIPTION:Please join us in a ribbon cutting honoring iKidz - Learn Through Play!
X-ALT-DESC;FMTTYPE=text/html:Please join us in a ribbon cutting honoring iKidz - Learn Through Play!
LOCATION:iKidz -Learning Through Play 2154-B Pelham Parkway Pelham\, AL 35124
UID:e.145.7970
SEQUENCE:3
DTSTAMP:20260422T140455Z
URL:https://business.shelbychamber.org/events/details/ikidz-learning-through-play-ribbon-cutting-11-17-2015-7970
END:VEVENT

END:VCALENDAR
