BEGIN:VCALENDAR
VERSION:2.0
PRODID:-//ChamberMaster//Event Calendar 2.0//EN
METHOD:PUBLISH
X-PUBLISHED-TTL:P3D
REFRESH-INTERVAL:P3D
CALSCALE:GREGORIAN
BEGIN:VEVENT
DTSTART:20130320T150000Z
DTEND:20130320T160000Z
X-MICROSOFT-CDO-ALLDAYEVENT:FALSE
SUMMARY:In the Woods Wednesday
DESCRIPTION:Learn about the fun things that can be discovered in the woods. Meet at the Campground Pavilion. Bring binoculars\, a nature journal\, or whatever you need to help you explore.
X-ALT-DESC;FMTTYPE=text/html:Learn about the fun things that can be discovered in the woods. Meet at the Campground Pavilion. Bring binoculars\, a nature journal\, or whatever you need to help you explore.
LOCATION:Oak Mountain State Park - Campground Pavilion
UID:e.145.4515
SEQUENCE:3
DTSTAMP:20260424T153532Z
URL:https://business.shelbychamber.org/events/details/in-the-woods-wednesday-03-20-2013-4515
END:VEVENT

END:VCALENDAR
