BEGIN:VCALENDAR
VERSION:2.0
PRODID:-//ChamberMaster//Event Calendar 2.0//EN
METHOD:PUBLISH
X-PUBLISHED-TTL:P3D
REFRESH-INTERVAL:P3D
CALSCALE:GREGORIAN
BEGIN:VEVENT
DTSTART:20120704T170000Z
DTEND:20120705T030000Z
X-MICROSOFT-CDO-ALLDAYEVENT:FALSE
SUMMARY:Independence Day Celebration at American Village
DESCRIPTION:Fun! Food! Fireworks!  Independence Day Celebration! at American Village on July 4th.  Events include patriotic music and sing-alongs\, BBQ and other tasty treats\, Colonial games\, dancing\, a dramatic reading of the Declaration of Independence\, Patrick Henry's "Give Me Liberty or Give Me Death" speech\, and the best "up close and personal" fireworks spectacular in Alabama! \n\n\n\nBe there for the groundbreaking for the National Veterans Shrine at the American Village at 6:00p.m. followed by a special salute to veterans and a veterans parade.
X-ALT-DESC;FMTTYPE=text/html:<strong>Fun! Food! Fireworks!&nbsp\; Independence Day Celebration! at American Village on July 4th.&nbsp\; </strong>Events include patriotic music and sing-alongs\, BBQ and other tasty treats\, Colonial games\, dancing\, a dramatic reading of the Declaration of Independence\, Patrick Henry&#39\;s &quot\;Give Me Liberty or Give Me Death&quot\; speech\, and the best &quot\;up close and personal&quot\; fireworks spectacular in Alabama!&nbsp\;<br />\n<br />\nBe there for the groundbreaking for the National Veterans Shrine at the American Village at 6:00p.m. followed by a special salute to veterans and a veterans parade.&nbsp\;<br />\n<br />\n
LOCATION:American Village
UID:e.145.4247
SEQUENCE:3
DTSTAMP:20260425T042039Z
URL:https://business.shelbychamber.org/events/details/independence-day-celebration-at-american-village-07-04-2012-4247
END:VEVENT

END:VCALENDAR
