BEGIN:VCALENDAR
VERSION:2.0
PRODID:-//ChamberMaster//Event Calendar 2.0//EN
METHOD:PUBLISH
X-PUBLISHED-TTL:P3D
REFRESH-INTERVAL:P3D
CALSCALE:GREGORIAN
BEGIN:VEVENT
DTSTART:20140412T130000Z
DTEND:20140412T210000Z
X-MICROSOFT-CDO-ALLDAYEVENT:FALSE
SUMMARY:Indoor Yard Sale and Book Sale
DESCRIPTION:Join us for an indoor yard sale and book sale benefiting North Shelby Library's Summer Reading program! You can also drop off items to donate anytime during library hours!
X-ALT-DESC;FMTTYPE=text/html:Join us for an indoor yard sale and book sale benefiting North Shelby Library&#39\;s Summer Reading program! You can also drop off items to donate anytime during library hours!
LOCATION:North Shelby Library
UID:e.145.5326
SEQUENCE:3
DTSTAMP:20260423T184043Z
URL:https://business.shelbychamber.org/events/details/indoor-yard-sale-and-book-sale-04-12-2014-5326
END:VEVENT

END:VCALENDAR
