BEGIN:VCALENDAR
VERSION:2.0
PRODID:-//ChamberMaster//Event Calendar 2.0//EN
METHOD:PUBLISH
X-PUBLISHED-TTL:P3D
REFRESH-INTERVAL:P3D
CALSCALE:GREGORIAN
BEGIN:VEVENT
DTSTART:20120723T140000Z
DTEND:20120723T200000Z
X-MICROSOFT-CDO-ALLDAYEVENT:FALSE
SUMMARY:Industrial JOB FAIR
DESCRIPTION:Alabama Crown Distributing Co. and Lyons HR are holding an Industrial JOB FAIR at the new location of Alabama Crown's distribution center in Alabaster on Monday\, July 23\, 2012 from 9:00 am   3:00 pm. A flyer for the job fair is attached. Please feel free to pass this information along.  CLICK HERE for a PRINTABLE PDF FLIER.\n\n \n\nRecruiting:\n\n              Warehouse Associates\n\n              Forklift Operators\n\n              General Laborers\n\n              Drivers\n\n \n\n \n\nAlabama Crown Distributing Co.\n\n1330 Corporate Woods Drive\n\nAlabaster\, AL 35007\n\nShelby West Corporate Park\n\nnear the Shelby County Airport\n\n \n\nPositions are available on 1st and 2nd shifts. All jobs with Lyons HR\, recruiting partner for Alabama Crown\,\n\nrequire clean drug test\, verifiable work history and background check.\n\n \n\nCassie Kimbrough\n\nHuman Resource Manager\n\nLyons HR\, Inc.\n\n490 Wildwood Circle N.#150\n\nHomewood\, AL  35209\n\nPhone: (205) 943-4820 \n\nFax: (205) 943-4826 \n\nckimbrough@lyonshr.com\n\nwww.lyonshr.com
X-ALT-DESC;FMTTYPE=text/html:Alabama Crown Distributing Co. and Lyons HR are holding an Industrial JOB FAIR at the new location of Alabama Crown&rsquo\;s distribution center in Alabaster on Monday\, July 23\, 2012 from 9:00 am &ndash\; 3:00 pm. A flyer for the job fair is attached. Please feel free to pass this information along.&nbsp\; <a href="http://cloud.chambermaster.com/userfiles/UserFiles/chambers/145/File/Community Events/AlabamaCrownJOBFAIR.pdf">CLICK HERE for a PRINTABLE PDF FLIER.</a><br />\n&nbsp\;<br />\nRecruiting:<br />\n&bull\;&nbsp\;&nbsp\;&nbsp\;&nbsp\;&nbsp\;&nbsp\;&nbsp\;&nbsp\;&nbsp\;&nbsp\;&nbsp\;&nbsp\; Warehouse Associates<br />\n&bull\;&nbsp\;&nbsp\;&nbsp\;&nbsp\;&nbsp\;&nbsp\;&nbsp\;&nbsp\;&nbsp\;&nbsp\;&nbsp\;&nbsp\; Forklift Operators<br />\n&bull\;&nbsp\;&nbsp\;&nbsp\;&nbsp\;&nbsp\;&nbsp\;&nbsp\;&nbsp\;&nbsp\;&nbsp\;&nbsp\;&nbsp\; General Laborers<br />\n&bull\;&nbsp\;&nbsp\;&nbsp\;&nbsp\;&nbsp\;&nbsp\;&nbsp\;&nbsp\;&nbsp\;&nbsp\;&nbsp\;&nbsp\; Drivers<br />\n&nbsp\;<br />\n&nbsp\;<br />\nAlabama Crown Distributing Co.<br />\n1330 Corporate Woods Drive<br />\nAlabaster\, AL 35007<br />\nShelby West Corporate Park<br />\nnear the Shelby County Airport<br />\n&nbsp\;<br />\nPositions are available on 1<sup><span style="font-size: small">st</span></sup> and 2<sup><span style="font-size: small">nd</span></sup> shifts. All jobs with Lyons HR\, recruiting partner for Alabama Crown\,<br />\nrequire clean drug test\, verifiable work history and background check.<br />\n&nbsp\;<br />\n<strong><span style="color: #1f497d">Cassie Kimbrough</span></strong><br />\n<span style="color: #1f497d">Human Resource Manager</span><br />\n<span style="color: #1f497d">Lyons HR\, Inc.</span><br />\n<span style="color: #1f497d">490 Wildwood Circle N.#150</span><br />\n<span style="color: #1f497d">Homewood\, AL&nbsp\; 35209</span><br />\n<span style="color: #1f497d">Phone: (205) 943-4820 </span><br />\n<span style="color: #1f497d">Fax: (205) 943-4826 </span><br />\n<span style="color: #1f497d">ckimbrough@lyonshr.com</span><br />\n<span style="color: #1f497d">www.lyonshr.com&nbsp\;</span><br />\n
LOCATION:Alabama Crown Distributing Co. 1330 Corporate Woods Drive Alabaster\, AL 35007 Shelby West Corporate Park near the Shelby County Airport
UID:e.145.4271
SEQUENCE:3
DTSTAMP:20260425T041938Z
URL:https://business.shelbychamber.org/events/details/industrial-job-fair-07-23-2012-4271
END:VEVENT

END:VCALENDAR
