BEGIN:VCALENDAR
VERSION:2.0
PRODID:-//ChamberMaster//Event Calendar 2.0//EN
METHOD:PUBLISH
X-PUBLISHED-TTL:P3D
REFRESH-INTERVAL:P3D
CALSCALE:GREGORIAN
BEGIN:VEVENT
DTSTART:20151202T230000Z
DTEND:20151203T010000Z
X-MICROSOFT-CDO-ALLDAYEVENT:FALSE
SUMMARY:Inline Lighting Annual Holiday Open House
DESCRIPTION:We are hosting our Annual Holiday Open House on Wednesday\, December 2 from 5-7 pm. Our lighting showroom will be decorated for Christmas\, and we will be serving cocktails\, hors d'oeuvres\, and desserts. It is open to the public\, and will be a time to visit with other members of our community and kick off the holiday season.
X-ALT-DESC;FMTTYPE=text/html:We are hosting our Annual Holiday Open House on Wednesday\, December 2 from 5-7 pm. Our lighting showroom will be decorated for Christmas\, and we will be serving cocktails\, hors d&#39\;oeuvres\, and desserts. It is open to the public\, and will be a time to visit with other members of our community and kick off the holiday season.
LOCATION:Inline Lighting showroom 2721 Pelham Parkway Pelham\, AL 35124
UID:e.145.7999
SEQUENCE:3
DTSTAMP:20260422T124828Z
URL:https://business.shelbychamber.org/events/details/inline-lighting-annual-holiday-open-house-12-02-2015-7999
END:VEVENT

END:VCALENDAR
