BEGIN:VCALENDAR
VERSION:2.0
PRODID:-//ChamberMaster//Event Calendar 2.0//EN
METHOD:PUBLISH
X-PUBLISHED-TTL:P3D
REFRESH-INTERVAL:P3D
CALSCALE:GREGORIAN
BEGIN:VEVENT
DTSTART:20141021T170000Z
DTEND:20141021T180000Z
X-MICROSOFT-CDO-ALLDAYEVENT:FALSE
SUMMARY:InShape MD Ribbon Cutting
DESCRIPTION:InShape MD is celebrating their GRAND opening with a Ribbon Cutting!
X-ALT-DESC;FMTTYPE=text/html:InShape MD is celebrating their GRAND opening with a Ribbon Cutting!&nbsp\;&nbsp\;&nbsp\;
LOCATION:650 Inverness Corners Birmingham\, AL 35242 **They are located in the same shopping center as the new Winn Dixie\, Milo's \, GameDay In style and M&M Jewlers.
UID:e.145.6464
SEQUENCE:3
DTSTAMP:20260423T091418Z
URL:https://business.shelbychamber.org/events/details/inshape-md-ribbon-cutting-10-21-2014-6464
END:VEVENT

END:VCALENDAR
