BEGIN:VCALENDAR
VERSION:2.0
PRODID:-//ChamberMaster//Event Calendar 2.0//EN
METHOD:PUBLISH
X-PUBLISHED-TTL:P3D
REFRESH-INTERVAL:P3D
CALSCALE:GREGORIAN
BEGIN:VEVENT
DTSTART:20140830T160000Z
DTEND:20140830T210000Z
X-MICROSOFT-CDO-ALLDAYEVENT:FALSE
SUMMARY:International Day for SafeHouse of Shelby County-Host ICAB
DESCRIPTION:Celebrate Life and Culture at this International Day Hosted by Indian Cultural Association of Birmingham. Enjoy world's culture in one day. All schools\, cultural groups\, families are invited. It is Free for public. Interested vendors and sponsors please contact Samata Shah 205 903 1642 Proceeds from this event is going to donated to SafeHouse of Shelby County. ENJOY Performances\, Displays & Food from various countries. Participants are local cultural groups and organizations. India China Africa Ireland Columbia Zumba Dance Middle Eastern And more...
X-ALT-DESC;FMTTYPE=text/html:Celebrate Life and Culture at this International Day Hosted by Indian Cultural Association of Birmingham. Enjoy world&#39\;s culture in one day. All schools\, cultural groups\, families are invited. It is Free for public. Interested vendors and sponsors please contact Samata Shah 205 903 1642 Proceeds from this event is going to donated to SafeHouse of Shelby County. ENJOY Performances\, Displays &amp\; Food from various countries. Participants are local cultural groups and organizations. India China Africa Ireland Columbia Zumba Dance Middle Eastern And more...
LOCATION:Pelham Civic Complex
UID:e.145.5813
SEQUENCE:3
DTSTAMP:20260423T133845Z
URL:https://business.shelbychamber.org/events/details/international-day-for-safehouse-of-shelby-county-host-icab-08-30-2014-5813
END:VEVENT

END:VCALENDAR
